BEGIN:VCALENDAR
VERSION:2.0
PRODID:-//E.A. Langenfeld - ECPv6.15.20//NONSGML v1.0//EN
CALSCALE:GREGORIAN
METHOD:PUBLISH
X-WR-CALNAME:E.A. Langenfeld
X-ORIGINAL-URL:https://www.langenfeld.com
X-WR-CALDESC:Events for E.A. Langenfeld
REFRESH-INTERVAL;VALUE=DURATION:PT1H
X-Robots-Tag:noindex
X-PUBLISHED-TTL:PT1H
BEGIN:VTIMEZONE
TZID:America/Chicago
BEGIN:DAYLIGHT
TZOFFSETFROM:-0600
TZOFFSETTO:-0500
TZNAME:CDT
DTSTART:20250309T080000
END:DAYLIGHT
BEGIN:STANDARD
TZOFFSETFROM:-0500
TZOFFSETTO:-0600
TZNAME:CST
DTSTART:20251102T070000
END:STANDARD
BEGIN:DAYLIGHT
TZOFFSETFROM:-0600
TZOFFSETTO:-0500
TZNAME:CDT
DTSTART:20260308T080000
END:DAYLIGHT
BEGIN:STANDARD
TZOFFSETFROM:-0500
TZOFFSETTO:-0600
TZNAME:CST
DTSTART:20261101T070000
END:STANDARD
BEGIN:DAYLIGHT
TZOFFSETFROM:-0600
TZOFFSETTO:-0500
TZNAME:CDT
DTSTART:20270314T080000
END:DAYLIGHT
BEGIN:STANDARD
TZOFFSETFROM:-0500
TZOFFSETTO:-0600
TZNAME:CST
DTSTART:20271107T070000
END:STANDARD
END:VTIMEZONE
BEGIN:VEVENT
DTSTART;VALUE=DATE:20260306
DTEND;VALUE=DATE:20260309
DTSTAMP:20260424T160504
CREATED:20250904T165459Z
LAST-MODIFIED:20250904T165459Z
UID:9260-1772755200-1773014399@www.langenfeld.com
SUMMARY:Do It Best & True Value Spring Market 2026
DESCRIPTION:We’ll See You at the Do it Best & True Value Spring Market 2026 in Denver!\nWe’re heading to Denver this March for the Do it Best & True Value Spring Market 2026\, and we’re excited to be there supporting our clients. From March 6–8\, 2026\, the Colorado Convention Center will be buzzing with retailers\, vendors\, and industry friends all coming together to kick off the spring season. \nWhat to Expect\n\nShow-Only Deals – Stock up with exclusive buying opportunities designed to set your spring season up for success.\nFresh Products – Browse the latest assortments and see what’s new from trusted vendors and suppliers.\nHelpful Insights – Learn from industry experts and discover merchandising and business strategies you can bring back to your store.\nConnections That Matter – Spend time with peers\, partners\, and vendors in a setting designed for collaboration.\n\nEvent Details\n\nDates: March 6–8\, 2026\nLocation: Colorado Convention Center\, Denver\, CO\n\nEvent Schedule\nComing Soon \nWe’re proud to be part of this event and can’t wait to connect with our clients\, partners\, and industry friends in Denver. \n  \n\n  \nHave questions? Contact your Do it Best or True Value Representative today to secure your spot and make arrangements or visit the Spring Market Page for detailed information. \n 
URL:https://www.langenfeld.com/event/do-it-best-true-value-spring-market-2026/
LOCATION:Colorado Convention Center\, 700 14th St\, Denver\, CO\, 80202\, United States
CATEGORIES:Trade Shows
ATTACH;FMTTYPE=image/png:https://www.langenfeld.com/wp-content/uploads/2025/09/Do-It-Best-True-Value-Spring-Market-2026-e1757008031360.png
END:VEVENT
BEGIN:VEVENT
DTSTART;VALUE=DATE:20260315
DTEND;VALUE=DATE:20260318
DTSTAMP:20260424T160504
CREATED:20251112T233944Z
LAST-MODIFIED:20260317T135643Z
UID:9351-1773532800-1773791999@www.langenfeld.com
SUMMARY:Grainger Show 2026
DESCRIPTION:We’ll See You at the Grainger Show 2026 in Orlando!\nWe’re pleased to represent our clients—including Blaster\, Oatey\, and Wera—at the Grainger Show 2026\, taking place March 15–17\, 2026\, at the Orange County Convention Center in Orlando\, Florida. This premier gathering of Grainger sellers\, strategic suppliers and customers is built around innovation in the industrial supply chain and provides a rich platform to explore new product solutions\, forge meaningful connections\, and support business growth. \nEvent Details\nDates: March 15–17\, 2026 \nLocation: Orange County Convention CenterAddress: 9800 International Dr.\, Orlando\, FL 32819 \nWho’s Attending: U.S. & Canadian sellers\, leaders\, strategic suppliers\, and top customers \nSchedule: Coming Soon \nWe’re proud to support Oatey and Wera at the Grainger Show 2026 and look forward to the opportunities this event creates for connection\, innovation\, and growth throughout the industrial supply chain. \nFor more information\, visit the 2026 Grainger Show website. \n  \n\nAre you interested in being represented by our Industrial team?\nOur team is here to help your company thrive! Discover how we can support your business goals by clicking here or contact Kurt at kurt.holler@langenfeld.com. \n\n 
URL:https://www.langenfeld.com/event/grainger-show-2026/
LOCATION:Orange County Convention Center\, 9400 Universal Blvd\, Orlando\, 32819
CATEGORIES:Trade Shows
ATTACH;FMTTYPE=image/jpeg:https://www.langenfeld.com/wp-content/uploads/2025/11/OCCC-GraingerShow-2026.jpg
END:VEVENT
END:VCALENDAR