BEGIN:VCALENDAR
VERSION:2.0
PRODID:-//E.A. Langenfeld - ECPv6.15.20//NONSGML v1.0//EN
CALSCALE:GREGORIAN
METHOD:PUBLISH
X-WR-CALNAME:E.A. Langenfeld
X-ORIGINAL-URL:https://www.langenfeld.com
X-WR-CALDESC:Events for E.A. Langenfeld
REFRESH-INTERVAL;VALUE=DURATION:PT1H
X-Robots-Tag:noindex
X-PUBLISHED-TTL:PT1H
BEGIN:VTIMEZONE
TZID:America/Chicago
BEGIN:DAYLIGHT
TZOFFSETFROM:-0600
TZOFFSETTO:-0500
TZNAME:CDT
DTSTART:20220313T080000
END:DAYLIGHT
BEGIN:STANDARD
TZOFFSETFROM:-0500
TZOFFSETTO:-0600
TZNAME:CST
DTSTART:20221106T070000
END:STANDARD
BEGIN:DAYLIGHT
TZOFFSETFROM:-0600
TZOFFSETTO:-0500
TZNAME:CDT
DTSTART:20230312T080000
END:DAYLIGHT
BEGIN:STANDARD
TZOFFSETFROM:-0500
TZOFFSETTO:-0600
TZNAME:CST
DTSTART:20231105T070000
END:STANDARD
BEGIN:DAYLIGHT
TZOFFSETFROM:-0600
TZOFFSETTO:-0500
TZNAME:CDT
DTSTART:20240310T080000
END:DAYLIGHT
BEGIN:STANDARD
TZOFFSETFROM:-0500
TZOFFSETTO:-0600
TZNAME:CST
DTSTART:20241103T070000
END:STANDARD
BEGIN:DAYLIGHT
TZOFFSETFROM:-0600
TZOFFSETTO:-0500
TZNAME:CDT
DTSTART:20250309T080000
END:DAYLIGHT
BEGIN:STANDARD
TZOFFSETFROM:-0500
TZOFFSETTO:-0600
TZNAME:CST
DTSTART:20251102T070000
END:STANDARD
END:VTIMEZONE
BEGIN:VEVENT
DTSTART;TZID=America/Chicago:20241104T080000
DTEND;TZID=America/Chicago:20241117T170000
DTSTAMP:20260424T154623
CREATED:20230915T153756Z
LAST-MODIFIED:20241010T140441Z
UID:6881-1730707200-1731862800@www.langenfeld.com
SUMMARY:Orgill Winter Online Buying Event 2024
DESCRIPTION:Continuing the practice of quarterly Online Buying Events for each season\, the Orgill Online Winter Buying Event will take place from November 4 – November 17. Orgill has introduced several new features to the online buying platform that offer attendees additional buying insights and flexibility. \nClick here for more information. 
URL:https://www.langenfeld.com/event/orgill-winter-online-buying-event-2/
LOCATION:Virtual
CATEGORIES:Trade Shows
ATTACH;FMTTYPE=image/jpeg:https://www.langenfeld.com/wp-content/uploads/2023/01/Orgill_DM23-1670-scaled.jpg
END:VEVENT
BEGIN:VEVENT
DTSTART;VALUE=DATE:20241010
DTEND;VALUE=DATE:20241012
DTSTAMP:20260424T154623
CREATED:20240605T214756Z
LAST-MODIFIED:20240605T214907Z
UID:7401-1728518400-1728691199@www.langenfeld.com
SUMMARY:House-Hasson Hardware Fall Dealer Market 2024
DESCRIPTION:The House-Hasson Hardware Fall Dealer Market 2024 is around the corner\, offering a fantastic opportunity for independent retailers to boost their business. Scheduled for October 10-11 at the Charlotte Convention Center in North Carolina\, this event by America’s largest regional hardware distributor is designed to improve dealer profitability through exclusive show specials. \nTo learn more\, click here.
URL:https://www.langenfeld.com/event/house-hasson-hardware-fall-dealer-market-2024/
LOCATION:Charlotte Convention Center\, 501 S College St\, Charlotte\, NC\, 28202\, United States
CATEGORIES:Trade Shows
ATTACH;FMTTYPE=image/jpeg:https://www.langenfeld.com/wp-content/uploads/2023/01/HouseHassonLogo_Featured.jpg
END:VEVENT
BEGIN:VEVENT
DTSTART;VALUE=DATE:20240909
DTEND;VALUE=DATE:20240912
DTSTAMP:20260424T154623
CREATED:20230926T161138Z
LAST-MODIFIED:20230926T162453Z
UID:6889-1725840000-1726099199@www.langenfeld.com
SUMMARY:True Value Fall Reunion 2024
DESCRIPTION:The True Value Reunion is a twice-a-year trade show that brings together retailers from across the country for showstopping deals\, including exclusive assortments\, displays\, new items and more! This fall\, the Reunion will take place September 9-11\, 2024 in Orlando. \nLearn more about the Fall Reunion here.
URL:https://www.langenfeld.com/event/true-value-fall-reunion-2024/
LOCATION:Orange County Convention Center\, 9400 Universal Blvd\, Orlando\, 32819
CATEGORIES:Trade Shows
ATTACH;FMTTYPE=image/jpeg:https://www.langenfeld.com/wp-content/uploads/2023/09/1678976205094-e1717542164334.jpg
END:VEVENT
BEGIN:VEVENT
DTSTART;VALUE=DATE:20240907
DTEND;VALUE=DATE:20240910
DTSTAMP:20260424T154623
CREATED:20240913T135121Z
LAST-MODIFIED:20240913T135121Z
UID:8026-1725667200-1725926399@www.langenfeld.com
SUMMARY:Prince Corporation Fall Show 2024
DESCRIPTION:The highly anticipated Prince Corporation Fall Booking Show is set to take place from September 7-9\, 2024 at the stunning Kalahari Resort in Wisconsin Dells\, WI. This premier event brings together lawn and garden industry professionals\, providing exclusive previews of the latest products\, networking opportunities\, and special booking deals. \nWhether you’re a vendor or a buyer\, the Fall Booking Show is the perfect opportunity to gear up for the upcoming season\, with access to innovative products and trends that will shape the industry in 2025. \nDon’t miss out—mark your calendars for this essential industry event! For more information\, click here.
URL:https://www.langenfeld.com/event/prince-corporation-fall-show-2024/
LOCATION:Kalahari Resort & Convention Center\, 1305 Kalahari Dr\, Wisconsin Dells\, WI\, 53965\, United States
CATEGORIES:Trade Shows
ATTACH;FMTTYPE=image/webp:https://www.langenfeld.com/wp-content/uploads/2024/09/prince-header.webp
END:VEVENT
BEGIN:VEVENT
DTSTART;VALUE=DATE:20240906
DTEND;VALUE=DATE:20240910
DTSTAMP:20260424T154623
CREATED:20230616T143737Z
LAST-MODIFIED:20230725T215914Z
UID:6337-1725580800-1725926399@www.langenfeld.com
SUMMARY:Do It Best Fall Market 2024
DESCRIPTION:Heading Back to Indianapolis for the Do It Best Fall Market\nThe Do it Best Fall 2024 Market will offer to Do it Best members and prospects outstanding buying opportunities including the popular Sneak Peek as well as Core Solution displays\, lumber\, and building materials market update\, a Shareholders Address from President Dan Starr\, and lots of great educational sessions. \nClick here for more information.
URL:https://www.langenfeld.com/event/do-it-best-fall-market-2024/
LOCATION:Indiana Convention Ctr\, Indianapolis\, In\, Indianapolis\, IN\, United States
CATEGORIES:Trade Shows
ATTACH;FMTTYPE=image/jpeg:https://www.langenfeld.com/wp-content/uploads/2023/01/buying_markets.jpg
END:VEVENT
BEGIN:VEVENT
DTSTART;VALUE=DATE:20240905
DTEND;VALUE=DATE:20240907
DTSTAMP:20260424T154623
CREATED:20250425T203913Z
LAST-MODIFIED:20250425T203913Z
UID:8811-1725494400-1725667199@www.langenfeld.com
SUMMARY:Foster's Inc. Spring Market 2026
DESCRIPTION:Get ready for the Foster’s Inc. Spring Market 2026\, happening on September 4th and 5th\, 2025\, at the Mayo Clinic Health System Event Center in Mankato\, MN. This market is a must-attend event for industry professionals looking to secure the best spring deals\, discover new products\, and prepare for the upcoming season. \nThis year’s event promises to showcase a wide range of products\, from lawn and garden supplies to home improvement tools. Buyers and vendors alike will benefit from exclusive offers\, networking opportunities\, and the chance to stay ahead of the trends for 2026. \nSave the date! If your target end user is the gardening consumer\, this is your must-attend event. For more information\, click here.
URL:https://www.langenfeld.com/event/fosters-inc-spring-market-2026/
LOCATION:Mayo Clinic Health System Event Center\, 1 Civic Center Plaza\, Mankato\, MN\, 56001\, United States
CATEGORIES:Trade Shows
ATTACH;FMTTYPE=image/jpeg:https://www.langenfeld.com/wp-content/uploads/2025/04/Fosters-Inc-Spring-Market-2026.jpg
END:VEVENT
BEGIN:VEVENT
DTSTART;VALUE=DATE:20240905
DTEND;VALUE=DATE:20240907
DTSTAMP:20260424T154623
CREATED:20240913T140106Z
LAST-MODIFIED:20240913T140106Z
UID:8033-1725494400-1725667199@www.langenfeld.com
SUMMARY:Foster's Inc. Spring Market 2025
DESCRIPTION:Get ready for the Foster’s Inc. Spring Market 2025\, happening on September 5th and 6th\, 2024\, at its new venue—the Mayo Clinic Health System Event Center in Mankato\, MN. This market is a must-attend event for industry professionals looking to secure the best spring deals\, discover new products\, and prepare for the upcoming season. \nWith its new location\, the event promises an even larger space to showcase a wide range of products\, from lawn and garden supplies to home improvement tools. Buyers and vendors alike will benefit from exclusive offers\, networking opportunities\, and the chance to stay ahead of the trends for 2025. \nSave the date\, and be part of this dynamic event in its fresh new setting! For more information\, click here.
URL:https://www.langenfeld.com/event/fosters-inc-spring-market-2025/
LOCATION:Mayo Clinic Health System Event Center\, 1 Civic Center Plaza\, Mankato\, MN\, 56001\, United States
CATEGORIES:Trade Shows
ATTACH;FMTTYPE=image/jpeg:https://www.langenfeld.com/wp-content/uploads/2024/09/Fosters-Inc-Spring-Market-2025-scaled.jpg
END:VEVENT
BEGIN:VEVENT
DTSTART;VALUE=DATE:20240820
DTEND;VALUE=DATE:20240823
DTSTAMP:20260424T154623
CREATED:20231115T155027Z
LAST-MODIFIED:20231115T155027Z
UID:7028-1724112000-1724371199@www.langenfeld.com
SUMMARY:Mid-States Fall Rendezvous 2024
DESCRIPTION:The “Rendezvous” is the name of Mid-States’ industry trade shows held twice per year (Winter and Fall) and is one of the largest of its kind.  Twice per year\, thousands of suppliers and members gather for food\, fun\, fellowship and a whole lot of buying and selling! \nWe look forward to seeing you in Arizona! Learn more about the Fall Rendezvous 2024. \n 
URL:https://www.langenfeld.com/event/mid-states-fall-rendezvous-2024/
LOCATION:Phoenix Convention Center\, Phoenix\, AZ\, Phoenix\, AZ\, United States
CATEGORIES:Trade Shows
ATTACH;FMTTYPE=image/png:https://www.langenfeld.com/wp-content/uploads/2023/11/RFImage.png
END:VEVENT
BEGIN:VEVENT
DTSTART;VALUE=DATE:20240808
DTEND;VALUE=DATE:20240811
DTSTAMP:20260424T154623
CREATED:20230616T194943Z
LAST-MODIFIED:20230725T215947Z
UID:6345-1723075200-1723334399@www.langenfeld.com
SUMMARY:Ace Hardware Fall Convention 2024
DESCRIPTION:Ace Hardware Heads to Chicago in the Fall\nThe goal of Ace Hardware’s semi-annual conventions is to allow teams to plan their business\, take advantage of margin-building buying opportunities and give vendors a chance to showcase and sell their products. The 2024 Fall Convention will take place on August 8-10 at McCormick Place – South Hall in Chicago\, IL. \nClick here for more information.
URL:https://www.langenfeld.com/event/ace-hardware-fall-convention-2024/
LOCATION:McCormick Place South Hall\, Chicago\, IL\, Chicago\, IL\, United States
CATEGORIES:Trade Shows
ATTACH;FMTTYPE=image/jpeg:https://www.langenfeld.com/wp-content/uploads/2023/06/MG_2961-scaled.jpg
END:VEVENT
BEGIN:VEVENT
DTSTART;VALUE=DATE:20240805
DTEND;VALUE=DATE:20240819
DTSTAMP:20260424T154623
CREATED:20230915T154105Z
LAST-MODIFIED:20230926T154119Z
UID:6885-1722816000-1724025599@www.langenfeld.com
SUMMARY:Orgill Fall Online Buying Event
DESCRIPTION:Continuing the practice of quarterly Online Buying Events for each season\, the Orgill Online Fall Buying Event will take place July 31-August 13. Orgill has introduced several new features to the online buying platform that offer attendees additional buying insights and flexibility. \nClick here for more information. 
URL:https://www.langenfeld.com/event/orgill-fall-online-buying-event/
LOCATION:Virtual
CATEGORIES:Trade Shows
ATTACH;FMTTYPE=image/jpeg:https://www.langenfeld.com/wp-content/uploads/2023/01/Orgill_DM23-1670-scaled.jpg
END:VEVENT
BEGIN:VEVENT
DTSTART;VALUE=DATE:20240614
DTEND;VALUE=DATE:20240616
DTSTAMP:20260424T154623
CREATED:20240315T161819Z
LAST-MODIFIED:20240315T162011Z
UID:7264-1718323200-1718495999@www.langenfeld.com
SUMMARY:House-Hasson “Gateway to Summer” Dealer Market
DESCRIPTION:Join us for the House-Hasson Gateway to Summer Buying Event\, an unparalleled opportunity for hardware dealers and industry professionals to discover the latest trends\, products\, and innovations as we kick off the summer season. \nThis eagerly anticipated event will be held on June 14 & 15\, 2024\, at the Sevierville Convention Center\, near the Great Smoky Mountains National Park. Attendees will have the opportunity to find Bonus Buys of up to 50% off along with pallet aisle giveaways\, exclusive assortment deals\, and cash spiffs! \nSee more information on this year’s Gateway to Summer Buying Event here.
URL:https://www.langenfeld.com/event/house-hasson-summer-2024-dealer-market/
LOCATION:Sevierville Convention Center\, 202 Gists Creek Rd\, Sevierville\, TN\, 37876\, United States
CATEGORIES:Trade Shows
ATTACH;FMTTYPE=image/png:https://www.langenfeld.com/wp-content/uploads/2024/03/Screen-Shot-2024-03-15-at-11.05.42-AM.png
END:VEVENT
BEGIN:VEVENT
DTSTART;VALUE=DATE:20240603
DTEND;VALUE=DATE:20240607
DTSTAMP:20260424T154623
CREATED:20240124T154656Z
LAST-MODIFIED:20240514T171908Z
UID:7110-1717372800-1717718399@www.langenfeld.com
SUMMARY:Mid-States 2024 Hoedown
DESCRIPTION:Saddle up for a one-of-a-kind experience at the Mid-States Distributing 2024 Hoedown in Nashville\, Tennessee! This annual event brings together thousands of suppliers and members for food\, fun\, fellowship and a whole lot of buying and selling! \nWe look forward to seeing you in Nashville this summer! Learn more about the Mid-States 2024 Hoedown. \n 
URL:https://www.langenfeld.com/event/mid-states-2024-hoedown/
LOCATION:Nashville\, TN\, Nashville\, TN\, United States
CATEGORIES:Trade Shows
ATTACH;FMTTYPE=image/png:https://www.langenfeld.com/wp-content/uploads/2024/01/Nashville_Guitar.png
END:VEVENT
BEGIN:VEVENT
DTSTART;VALUE=DATE:20240520
DTEND;VALUE=DATE:20240603
DTSTAMP:20260424T154623
CREATED:20230915T153942Z
LAST-MODIFIED:20230926T162539Z
UID:6883-1716163200-1717372799@www.langenfeld.com
SUMMARY:Orgill Summer Online Buying Event 2024
DESCRIPTION:Continuing the practice of quarterly Online Buying Events for each season\, the Orgill Online Spring Buying Event will take place May 20 to June 2. Orgill has introduced several new features to the online buying platform that offer attendees additional buying insights and flexibility. \nClick here for more information. 
URL:https://www.langenfeld.com/event/orgill-summer-online-buying-event/
LOCATION:Virtual
CATEGORIES:Trade Shows
ATTACH;FMTTYPE=image/jpeg:https://www.langenfeld.com/wp-content/uploads/2023/01/Orgill_DM23-1670-scaled.jpg
END:VEVENT
BEGIN:VEVENT
DTSTART;VALUE=DATE:20240323
DTEND;VALUE=DATE:20240326
DTSTAMP:20260424T154623
CREATED:20230616T143024Z
LAST-MODIFIED:20230725T215958Z
UID:6331-1711152000-1711411199@www.langenfeld.com
SUMMARY:Do It Best Spring Market 2024
DESCRIPTION:Spring in Houston for the Do It Best Market\nThe Do it Best Spring 2024 Market will offer to Do it Best members and prospects outstanding buying opportunities including the popular Sneak Peek as well as Core Solution displays\, lumber\, and building materials market update\, a Shareholders Address from President Dan Starr\, and lots of great educational sessions. \nClick here for more information.
URL:https://www.langenfeld.com/event/do-it-best-spring-market-2023-2/
LOCATION:George R. Brown Convention Center\, 1001 Avenida De Las Americas\, Houston\, TX\, 77010
CATEGORIES:Trade Shows
ATTACH;FMTTYPE=image/png:https://www.langenfeld.com/wp-content/uploads/2023/06/Do-it-Best-Spring-Market_660x330-1536x768-1.png
END:VEVENT
BEGIN:VEVENT
DTSTART;VALUE=DATE:20240321
DTEND;VALUE=DATE:20240324
DTSTAMP:20260424T154623
CREATED:20230926T162239Z
LAST-MODIFIED:20231128T171932Z
UID:6894-1710979200-1711238399@www.langenfeld.com
SUMMARY:Blish-Mize Spring Buying Market 2024
DESCRIPTION:Blish-Mize hosts two customer buying markets a year. Traditionally\, they hold a March Spring Buying Market and a mid-September Fall Buying Market\, both in Overland Park\, Kansas\, at the Overland Park Convention Center\, and Sheraton Overland Park Hotel at the Convention Center. \nTheir Buying Markets have business-enhancing seminars\, special red-hot-priced coupon buys\, extended dating\, cost-plus specials\, drop-ship pricing\, booking programs on seasonal merchandise\, and special out-of-stock pricing. \nFor more information\, click here.
URL:https://www.langenfeld.com/event/blish-mize-spring-customer-buying-market-2024/
LOCATION:Overland Park\, KS\, Overland Park\, KS\, United States
CATEGORIES:Trade Shows
ATTACH;FMTTYPE=image/jpeg:https://www.langenfeld.com/wp-content/uploads/2023/09/BlishMize_logo.jpg
END:VEVENT
BEGIN:VEVENT
DTSTART;VALUE=DATE:20240312
DTEND;VALUE=DATE:20240315
DTSTAMP:20260424T154623
CREATED:20230616T194123Z
LAST-MODIFIED:20230725T220012Z
UID:6340-1710201600-1710460799@www.langenfeld.com
SUMMARY:Ace Hardware Spring Convention 2024
DESCRIPTION:The goal of Ace Hardware’s semi-annual conventions is to allow teams to plan their business\, take advantage of margin-building buying opportunities and give vendors a chance to showcase and sell their products. The 2024 Spring Convention will take place on March 12-14 at the Kay Bailey Hutchison Convention Center in Dallas\, TX. \nClick here for more information.
URL:https://www.langenfeld.com/event/ace-hardware-spring-convention-2024/
LOCATION:Kay Bailey Hutchison Convention Center\, 650 S Griffin St\, Dallas\, 75202
CATEGORIES:Trade Shows
ATTACH;FMTTYPE=image/jpeg:https://www.langenfeld.com/wp-content/uploads/2023/06/MG_2875-scaled.jpg
END:VEVENT
BEGIN:VEVENT
DTSTART;VALUE=DATE:20240222
DTEND;VALUE=DATE:20240225
DTSTAMP:20260424T154623
CREATED:20230915T153651Z
LAST-MODIFIED:20230926T153749Z
UID:6265-1708560000-1708819199@www.langenfeld.com
SUMMARY:Orgill 2024 Spring Dealer Market
DESCRIPTION:Orgill will be hosting the Spring 2024 Dealer Market in person in Orlando\, FL. The Orgill Spring Buying Event will take place February 22 – February 24\, 2024. \nClick here for more information.
URL:https://www.langenfeld.com/event/orgill-2024-spring-dealer-market/
LOCATION:Orange County Convention Center\, 9400 Universal Blvd\, Orlando\, 32819
CATEGORIES:Trade Shows
ATTACH;FMTTYPE=image/jpeg:https://www.langenfeld.com/wp-content/uploads/2023/09/Orgill-Entrance.jpg
END:VEVENT
BEGIN:VEVENT
DTSTART;VALUE=DATE:20240214
DTEND;VALUE=DATE:20240217
DTSTAMP:20260424T154623
CREATED:20230131T075322Z
LAST-MODIFIED:20230615T215951Z
UID:1821-1707868800-1708127999@www.langenfeld.com
SUMMARY:United Hardware 2024 Spring Buying Market
DESCRIPTION:United Hardware will be hosting a Buying Market event in St. Cloud\, MN at the River’s Edge Convention Center on February 14-16\, 2024. \nTo learn more\, click here.
URL:https://www.langenfeld.com/event/united-hardware-fall-buying-marketing/
LOCATION:River’s Edge Convention Center\, 10 4th Ave S\, St Cloud\, MN\, 56301\, United States
CATEGORIES:Trade Shows
ATTACH;FMTTYPE=image/png:https://www.langenfeld.com/wp-content/uploads/2023/01/Screenshot-2023-06-15-at-4.58.59-PM.png
END:VEVENT
BEGIN:VEVENT
DTSTART;VALUE=DATE:20240211
DTEND;VALUE=DATE:20240214
DTSTAMP:20260424T154623
CREATED:20230614T225505Z
LAST-MODIFIED:20230614T225505Z
UID:6262-1707609600-1707868799@www.langenfeld.com
SUMMARY:Grainger Show 2024
DESCRIPTION:Grainger Show Returns to Orlando\nThe Grainger Show will return to Orlando\, Florida’s Orange County Convention Center from February 11 to 13\, 2024. Customers and suppliers will learn more about these plans from their Grainger representatives in the months ahead. \nWe look forward to seeing you there!
URL:https://www.langenfeld.com/event/grainger-show-2024/
LOCATION:Orange County Convention Center\, 9400 Universal Blvd\, Orlando\, 32819
CATEGORIES:Trade Shows
ATTACH;FMTTYPE=image/png:https://www.langenfeld.com/wp-content/uploads/2023/06/Screenshot-2023-06-14-at-1.31.47-PM.png
END:VEVENT
BEGIN:VEVENT
DTSTART;VALUE=DATE:20240202
DTEND;VALUE=DATE:20240205
DTSTAMP:20260424T154623
CREATED:20230615T163922Z
LAST-MODIFIED:20230615T163922Z
UID:6290-1706832000-1707091199@www.langenfeld.com
SUMMARY:True Value Spring Reunion 2024
DESCRIPTION:We are headed to New Orleans in February\nThe True Value Reunion is a twice-a-year trade show that brings together retailers from across the country for showstopping deals\, including exclusive assortments\, displays\, new items and more! This winter\, the Reunion will take place February 2-4\, 2024 in New Orleans.
URL:https://www.langenfeld.com/event/true-value-spring-reunion-2024/
LOCATION:New Orleans Ernest N. Morial Convention Center\, 900 Convention Center Blvd\, New Orleans\, LA\, 70130\, United States
CATEGORIES:Trade Shows
ATTACH;FMTTYPE=image/jpeg:https://www.langenfeld.com/wp-content/uploads/2023/06/1679245083139.jpg
END:VEVENT
BEGIN:VEVENT
DTSTART;VALUE=DATE:20240126
DTEND;VALUE=DATE:20240128
DTSTAMP:20260424T154623
CREATED:20231108T210540Z
LAST-MODIFIED:20231108T210540Z
UID:7013-1706227200-1706399999@www.langenfeld.com
SUMMARY:House-Hasson Spring 2024 Dealer Market
DESCRIPTION:Mark your calendar for January 25-27th! The House-Hasson Spring Dealer Market is returning to the Opryland Resort in Nashville\, Tenn. Don’t miss out on bonus buys\, market-only specials\, one-on-one time with vendors\, new programs\, giveaways and so much more. \nClick here for more information.
URL:https://www.langenfeld.com/event/house-hasson-spring-2024-dealer-market/
LOCATION:Gaylord Opryland Resort & Convention Center\, 2800 Opryland Dr\, Nashville\, TN\, 37214
CATEGORIES:Trade Shows
ATTACH;FMTTYPE=image/png:https://www.langenfeld.com/wp-content/uploads/2023/11/Screenshot-2023-11-08-at-3.04.16-PM.png
END:VEVENT
BEGIN:VEVENT
DTSTART;VALUE=DATE:20240111
DTEND;VALUE=DATE:20240114
DTSTAMP:20260424T154623
CREATED:20231115T154415Z
LAST-MODIFIED:20231115T154752Z
UID:7020-1704931200-1705190399@www.langenfeld.com
SUMMARY:Mid-States Winter Rendezvous 2024
DESCRIPTION:The “Rendezvous” is the name of Mid-States’ industry trade shows held twice per year (Winter and Fall). Twice per year\, thousands of suppliers and members gather for food\, fun\, fellowship and a whole lot of buying and selling! \nAll suppliers are invited to mix and mingle with members at the Rive Walk Party on January 12th! Don’t miss out on the fun and beautiful scenery on the San Antonio Riverwalk! \nLearn more about the 2024 Winter’s Rendezvous. \n  \n 
URL:https://www.langenfeld.com/event/mid-states-winter-rendezvous-2024/
LOCATION:Henry B. Gonzalez Convention Center\, 900 E Market St\, San Antonio\, TX\, 78205
CATEGORIES:Trade Shows
ATTACH;FMTTYPE=image/png:https://www.langenfeld.com/wp-content/uploads/2023/11/shutterstock_649148494.png
END:VEVENT
BEGIN:VEVENT
DTSTART;VALUE=DATE:20231207
DTEND;VALUE=DATE:20231209
DTSTAMP:20260424T154623
CREATED:20230614T225413Z
LAST-MODIFIED:20230614T225413Z
UID:6267-1701907200-1702079999@www.langenfeld.com
SUMMARY:Fastenal Employee Expo 2023
DESCRIPTION:Our industrial team is looking forward to attending the Fastenal Employee Expo this winter beginning on December 7 at the Orange County Convention Center in Orlando\, Florida. \nHope to see you there!
URL:https://www.langenfeld.com/event/fastenal-employee-expo-2023/
LOCATION:Orange County Convention Center\, 9400 Universal Blvd\, Orlando\, 32819
CATEGORIES:Trade Shows
ATTACH;FMTTYPE=image/png:https://www.langenfeld.com/wp-content/uploads/2023/06/Screenshot-2023-06-14-at-5.51.23-PM.png
END:VEVENT
BEGIN:VEVENT
DTSTART;TZID=America/Chicago:20231030T080000
DTEND;TZID=America/Chicago:20231112T170000
DTSTAMP:20260424T154623
CREATED:20230131T075453Z
LAST-MODIFIED:20230725T220027Z
UID:1829-1698652800-1699808400@www.langenfeld.com
SUMMARY:Orgill Winter Online Buying Event
DESCRIPTION:Continuing the practice of quarterly Online Buying Events for each season\, the Orgill Online Winter Buying Event will take place October 30-November 12. Orgill has introduced several new features to the online buying platform that offer attendees additional buying insights and flexibility. \nClick here for more information. 
URL:https://www.langenfeld.com/event/orgill-winter-online-buying-event/
LOCATION:Virtual
CATEGORIES:Trade Shows
ATTACH;FMTTYPE=image/jpeg:https://www.langenfeld.com/wp-content/uploads/2023/01/Orgill_DM23-1670-scaled.jpg
END:VEVENT
BEGIN:VEVENT
DTSTART;TZID=America/Chicago:20231006T080000
DTEND;TZID=America/Chicago:20231007T170000
DTSTAMP:20260424T154623
CREATED:20230131T075403Z
LAST-MODIFIED:20230725T220040Z
UID:1826-1696579200-1696698000@www.langenfeld.com
SUMMARY:House-Hasson Hardware Fall Dealer Market 2023
DESCRIPTION:House-Hasson is America’s largest regional hardware distributor\, and independent retailers are invited to join the company as it returns to an in-person gathering for its 2023 Fall Dealer Market\, scheduled for October 6-7 at the Sevierville Events Center in Sevierville\, Tenn. This buying event is designed and planned specifically to improve dealer profitability with two Bonus Buy Breakfasts and lots of show specials. \nTo register\, click here.
URL:https://www.langenfeld.com/event/house-hasson-hardware-fall-dealer-market-2023/
LOCATION:Sevierville Convention Center\, 202 Gists Creek Rd\, Sevierville\, TN\, 37876\, United States
CATEGORIES:Trade Shows
ATTACH;FMTTYPE=image/jpeg:https://www.langenfeld.com/wp-content/uploads/2023/01/HouseHassonLogo_Featured.jpg
END:VEVENT
BEGIN:VEVENT
DTSTART;TZID=America/Chicago:20230927T080000
DTEND;TZID=America/Chicago:20230929T150000
DTSTAMP:20260424T154623
CREATED:20230131T073046Z
LAST-MODIFIED:20230615T221125Z
UID:1778-1695801600-1695999600@www.langenfeld.com
SUMMARY:United Hardware 2023 Fall Buying Market
DESCRIPTION:Fall Buying Market: Automotive and Lawn & Garden\nGet ready for the United Hardware Fall Buying Market which will take place September 27-29\, 2023 at the Mayo Civic Center in Rochester\, Minnesota. This season’s market will feature an in-person event as well as a virtual show. \nIn-Person: Wednesday\, September 27– Friday\, September 29\, 2023 \nVirtual (Online Only): Monday\, September 25\, 2023 – Friday\, October 6\, 2023 \nEvent Schedule:\nWednesday\, September 27\, 2023  \n8:00 a.m. – 4:00 p.m.  \nVendor set-up and all-day training opportunities & evening kick-off event for members only (4-6 p.m.) \n\nThursday\, September 28\, 2023 \n8:00 a.m. – 4:00 p.m. \nMarket Floor Open \n7:00 p.m. \nCountry Star Entertainment (members\, vendors and UH staff all welcome) \n\nFriday\, September 29\, 2023 \n9:00 a.m. – 3:00 p.m.  \nMarket Floor Open \n3:00 p.m.  \nTear Down \nTo learn more\, click here.
URL:https://www.langenfeld.com/event/united-hardware-fall-buying-market/
LOCATION:Mayo Civic Center\, 30 Civic Center Dr SE\, Rochester\, 55904
CATEGORIES:Trade Shows
ATTACH;FMTTYPE=image/png:https://www.langenfeld.com/wp-content/uploads/2023/01/Screenshot-2023-06-15-at-4.59.05-PM.png
END:VEVENT
BEGIN:VEVENT
DTSTART;VALUE=DATE:20230920
DTEND;VALUE=DATE:20230923
DTSTAMP:20260424T154623
CREATED:20230615T161214Z
LAST-MODIFIED:20230615T161214Z
UID:6276-1695168000-1695427199@www.langenfeld.com
SUMMARY:Bostwick-Braun Dealer Market Fall 2023
DESCRIPTION:See You at the Fall Dealer Market in Toledo\nThe Bostwick-Braun Company is one of the oldest and largest wholesale hardware distributors in the Midwest\, supplying both retail and commercial/industrial customers throughout a 22-state region.
URL:https://www.langenfeld.com/event/bostwick-braun-dealer-market-fall-2023/
LOCATION:Glass City Center\, 401 Jefferson Ave\, Toledo\, OH\, 43604\, United States
CATEGORIES:Trade Shows
ATTACH;FMTTYPE=image/jpeg:https://www.langenfeld.com/wp-content/uploads/2023/06/bbh-hardware-3-720x300-1.jpg
END:VEVENT
BEGIN:VEVENT
DTSTART;VALUE=DATE:20230919
DTEND;VALUE=DATE:20230922
DTSTAMP:20260424T154623
CREATED:20230131T075022Z
LAST-MODIFIED:20230725T220053Z
UID:1815-1695081600-1695340799@www.langenfeld.com
SUMMARY:Ace Hardware Fall Convention 2023
DESCRIPTION:The goal of Ace Hardware’s semi-annual conventions is to allow teams to plan their business\, take advantage of margin-building buying opportunities and give vendors a chance to showcase and sell their products. The 2023 Fall Convention will take place on September 19-21 at the Orange County Convention Center in Orlando. \nClick here for more information.
URL:https://www.langenfeld.com/event/ace-hardware-fall-convention-2023/
LOCATION:Orange County Convention Center\, 9400 Universal Blvd\, Orlando\, 32819
CATEGORIES:Trade Shows
ATTACH;FMTTYPE=image/jpeg:https://www.langenfeld.com/wp-content/uploads/2023/01/1678997109406.jpg
END:VEVENT
BEGIN:VEVENT
DTSTART;TZID=America/Chicago:20230914T080000
DTEND;TZID=America/Chicago:20230916T170000
DTSTAMP:20260424T154623
CREATED:20230131T074902Z
LAST-MODIFIED:20230725T220105Z
UID:1812-1694678400-1694883600@www.langenfeld.com
SUMMARY:Blish-Mize Fall Market
DESCRIPTION:Blish-Mize Buying Markets have business-enhancing seminars\, special red-hot-priced coupon buys\, extended dating\, cost-plus specials\, drop-ship pricing\, booking programs on seasonal merchandise\, and special out-of-stock pricing. The 2023 Fall Buying Market will take place September 14-16\, 2023 at the Overland Park Convention Center in Overland Park\, Kansas. \nLearn more about the Blish-Mize Fall Market here.
URL:https://www.langenfeld.com/event/blish-mize-fall-market/
LOCATION:Overland Park Convention Center\, 6000 College Blvd\, Overland Park\, 66211
CATEGORIES:Trade Shows
ATTACH;FMTTYPE=image/jpeg:https://www.langenfeld.com/wp-content/uploads/2023/01/FM23_Website_Slider.jpg
END:VEVENT
END:VCALENDAR